BEGIN:VCALENDAR
VERSION:2.0
PRODID:-//Casa Scharons - ECPv6.15.20//NONSGML v1.0//EN
CALSCALE:GREGORIAN
METHOD:PUBLISH
X-ORIGINAL-URL:https://scharons.ch
X-WR-CALDESC:Veranstaltungen für Casa Scharons
REFRESH-INTERVAL;VALUE=DURATION:PT1H
X-Robots-Tag:noindex
X-PUBLISHED-TTL:PT1H
BEGIN:VTIMEZONE
TZID:Europe/Zurich
BEGIN:DAYLIGHT
TZOFFSETFROM:+0100
TZOFFSETTO:+0200
TZNAME:CEST
DTSTART:20240331T010000
END:DAYLIGHT
BEGIN:STANDARD
TZOFFSETFROM:+0200
TZOFFSETTO:+0100
TZNAME:CET
DTSTART:20241027T010000
END:STANDARD
BEGIN:DAYLIGHT
TZOFFSETFROM:+0100
TZOFFSETTO:+0200
TZNAME:CEST
DTSTART:20250330T010000
END:DAYLIGHT
BEGIN:STANDARD
TZOFFSETFROM:+0200
TZOFFSETTO:+0100
TZNAME:CET
DTSTART:20251026T010000
END:STANDARD
BEGIN:DAYLIGHT
TZOFFSETFROM:+0100
TZOFFSETTO:+0200
TZNAME:CEST
DTSTART:20260329T010000
END:DAYLIGHT
BEGIN:STANDARD
TZOFFSETFROM:+0200
TZOFFSETTO:+0100
TZNAME:CET
DTSTART:20261025T010000
END:STANDARD
END:VTIMEZONE
BEGIN:VEVENT
DTSTART;VALUE=DATE:20250926
DTEND;VALUE=DATE:20251007
DTSTAMP:20260421T120251
CREATED:20241007T141849Z
LAST-MODIFIED:20241007T141849Z
UID:1177-1758844800-1759795199@scharons.ch
SUMMARY:Belegt
DESCRIPTION:
URL:https://scharons.ch/event/belegt-95/
END:VEVENT
BEGIN:VEVENT
DTSTART;VALUE=DATE:20251010
DTEND;VALUE=DATE:20251020
DTSTAMP:20260421T120251
CREATED:20241007T141932Z
LAST-MODIFIED:20241007T141932Z
UID:1179-1760054400-1760918399@scharons.ch
SUMMARY:Belegt
DESCRIPTION:
URL:https://scharons.ch/event/belegt-96/
END:VEVENT
BEGIN:VEVENT
DTSTART;VALUE=DATE:20251017
DTEND;VALUE=DATE:20251024
DTSTAMP:20260421T120251
CREATED:20251010T203243Z
LAST-MODIFIED:20251010T203243Z
UID:1309-1760659200-1761263999@scharons.ch
SUMMARY:Belegt
DESCRIPTION:
URL:https://scharons.ch/event/belegt-114/
END:VEVENT
END:VCALENDAR