BEGIN:VCALENDAR
VERSION:2.0
PRODID:-//Casa Scharons - ECPv6.15.20//NONSGML v1.0//EN
CALSCALE:GREGORIAN
METHOD:PUBLISH
X-WR-CALNAME:Casa Scharons
X-ORIGINAL-URL:https://scharons.ch
X-WR-CALDESC:Veranstaltungen für Casa Scharons
REFRESH-INTERVAL;VALUE=DURATION:PT1H
X-Robots-Tag:noindex
X-PUBLISHED-TTL:PT1H
BEGIN:VTIMEZONE
TZID:Europe/Zurich
BEGIN:DAYLIGHT
TZOFFSETFROM:+0100
TZOFFSETTO:+0200
TZNAME:CEST
DTSTART:20240331T010000
END:DAYLIGHT
BEGIN:STANDARD
TZOFFSETFROM:+0200
TZOFFSETTO:+0100
TZNAME:CET
DTSTART:20241027T010000
END:STANDARD
BEGIN:DAYLIGHT
TZOFFSETFROM:+0100
TZOFFSETTO:+0200
TZNAME:CEST
DTSTART:20250330T010000
END:DAYLIGHT
BEGIN:STANDARD
TZOFFSETFROM:+0200
TZOFFSETTO:+0100
TZNAME:CET
DTSTART:20251026T010000
END:STANDARD
BEGIN:DAYLIGHT
TZOFFSETFROM:+0100
TZOFFSETTO:+0200
TZNAME:CEST
DTSTART:20260329T010000
END:DAYLIGHT
BEGIN:STANDARD
TZOFFSETFROM:+0200
TZOFFSETTO:+0100
TZNAME:CET
DTSTART:20261025T010000
END:STANDARD
END:VTIMEZONE
BEGIN:VEVENT
DTSTART;VALUE=DATE:20250829
DTEND;VALUE=DATE:20250908
DTSTAMP:20260421T135541
CREATED:20250205T134058Z
LAST-MODIFIED:20250205T134058Z
UID:1230-1756425600-1757289599@scharons.ch
SUMMARY:Belegt
DESCRIPTION:
URL:https://scharons.ch/event/belegt-105/
END:VEVENT
BEGIN:VEVENT
DTSTART;VALUE=DATE:20250907
DTEND;VALUE=DATE:20250912
DTSTAMP:20260421T135541
CREATED:20250205T134127Z
LAST-MODIFIED:20250205T134127Z
UID:1232-1757203200-1757635199@scharons.ch
SUMMARY:Belegt
DESCRIPTION:
URL:https://scharons.ch/event/belegt-108/
END:VEVENT
BEGIN:VEVENT
DTSTART;VALUE=DATE:20250912
DTEND;VALUE=DATE:20250921
DTSTAMP:20260421T135541
CREATED:20250604T174125Z
LAST-MODIFIED:20250604T174125Z
UID:1245-1757635200-1758412799@scharons.ch
SUMMARY:Belegt
DESCRIPTION:
URL:https://scharons.ch/event/belegt-111/
END:VEVENT
BEGIN:VEVENT
DTSTART;VALUE=DATE:20250926
DTEND;VALUE=DATE:20251007
DTSTAMP:20260421T135541
CREATED:20241007T141849Z
LAST-MODIFIED:20241007T141849Z
UID:1177-1758844800-1759795199@scharons.ch
SUMMARY:Belegt
DESCRIPTION:
URL:https://scharons.ch/event/belegt-95/
END:VEVENT
END:VCALENDAR