BEGIN:VCALENDAR
VERSION:2.0
PRODID:-//Casa Scharons - ECPv6.15.20//NONSGML v1.0//EN
CALSCALE:GREGORIAN
METHOD:PUBLISH
X-ORIGINAL-URL:https://scharons.ch
X-WR-CALDESC:Veranstaltungen für Casa Scharons
REFRESH-INTERVAL;VALUE=DURATION:PT1H
X-Robots-Tag:noindex
X-PUBLISHED-TTL:PT1H
BEGIN:VTIMEZONE
TZID:Europe/Zurich
BEGIN:DAYLIGHT
TZOFFSETFROM:+0100
TZOFFSETTO:+0200
TZNAME:CEST
DTSTART:20240331T010000
END:DAYLIGHT
BEGIN:STANDARD
TZOFFSETFROM:+0200
TZOFFSETTO:+0100
TZNAME:CET
DTSTART:20241027T010000
END:STANDARD
BEGIN:DAYLIGHT
TZOFFSETFROM:+0100
TZOFFSETTO:+0200
TZNAME:CEST
DTSTART:20250330T010000
END:DAYLIGHT
BEGIN:STANDARD
TZOFFSETFROM:+0200
TZOFFSETTO:+0100
TZNAME:CET
DTSTART:20251026T010000
END:STANDARD
BEGIN:DAYLIGHT
TZOFFSETFROM:+0100
TZOFFSETTO:+0200
TZNAME:CEST
DTSTART:20260329T010000
END:DAYLIGHT
BEGIN:STANDARD
TZOFFSETFROM:+0200
TZOFFSETTO:+0100
TZNAME:CET
DTSTART:20261025T010000
END:STANDARD
END:VTIMEZONE
BEGIN:VEVENT
DTSTART;VALUE=DATE:20250729
DTEND;VALUE=DATE:20250808
DTSTAMP:20260421T152836
CREATED:20241007T141808Z
LAST-MODIFIED:20241007T141808Z
UID:1175-1753747200-1754611199@scharons.ch
SUMMARY:Belegt
DESCRIPTION:
URL:https://scharons.ch/event/belegt-94/
END:VEVENT
BEGIN:VEVENT
DTSTART;VALUE=DATE:20250813
DTEND;VALUE=DATE:20250819
DTSTAMP:20260421T152836
CREATED:20241028T075350Z
LAST-MODIFIED:20241028T075451Z
UID:1188-1755043200-1755561599@scharons.ch
SUMMARY:Belegt
DESCRIPTION:
URL:https://scharons.ch/event/belegt-privat/
END:VEVENT
BEGIN:VEVENT
DTSTART;VALUE=DATE:20250820
DTEND;VALUE=DATE:20250830
DTSTAMP:20260421T152836
CREATED:20241028T063959Z
LAST-MODIFIED:20241028T063959Z
UID:1186-1755648000-1756511999@scharons.ch
SUMMARY:Belegt
DESCRIPTION:
URL:https://scharons.ch/event/belegt-99/
END:VEVENT
BEGIN:VEVENT
DTSTART;VALUE=DATE:20250829
DTEND;VALUE=DATE:20250908
DTSTAMP:20260421T152836
CREATED:20250205T134058Z
LAST-MODIFIED:20250205T134058Z
UID:1230-1756425600-1757289599@scharons.ch
SUMMARY:Belegt
DESCRIPTION:
URL:https://scharons.ch/event/belegt-105/
END:VEVENT
END:VCALENDAR